BEGIN:VCALENDAR
VERSION:2.0
PRODID:-//TYPO3/NONSGML News system (news)//EN
CALSCALE:GREGORIAN
METHOD:PUBLISH
BEGIN:VEVENT
UID:news-116037@weissenstein.gv.at

DTSTAMP:20260424T074415Z



DTSTART;TZID=Europe/Vienna:20260606T100000
DTEND;TZID=Europe/Vienna:20260606T150000

SUMMARY:Gesundheitstag
DESCRIPTION:

LOCATION:Kulturhaus


END:VEVENT
END:VCALENDAR
