BEGIN:VCALENDAR
VERSION:2.0
PRODID:-//TYPO3/NONSGML News system (news)//EN
CALSCALE:GREGORIAN
METHOD:PUBLISH
BEGIN:VEVENT
UID:news-115878@weissenstein.gv.at

DTSTAMP:20260424T074114Z



DTSTART;TZID=Europe/Vienna:20260606T090000
DTEND;TZID=Europe/Vienna:20260606T000000

SUMMARY:Familien-Radtag
DESCRIPTION:

LOCATION:Gemeindegebiet der Marktgemeinde Weißenstein


END:VEVENT
END:VCALENDAR
