BEGIN:VCALENDAR
VERSION:2.0
PRODID:-//TYPO3/NONSGML News system (news)//EN
CALSCALE:GREGORIAN
METHOD:PUBLISH
BEGIN:VEVENT
UID:news-115863@weissenstein.gv.at

DTSTAMP:20260424T074236Z



DTSTART;TZID=Europe/Vienna:20260612T150000
DTEND;TZID=Europe/Vienna:20260612T180000

SUMMARY:Repair-Café
DESCRIPTION:

LOCATION:Kulturhaus Weißenstein


END:VEVENT
END:VCALENDAR
